BEGIN:VCALENDAR
VERSION:2.0
PRODID:-//ChamberMaster//Event Calendar 2.0//EN
METHOD:PUBLISH
X-PUBLISHED-TTL:P3D
REFRESH-INTERVAL:P3D
CALSCALE:GREGORIAN
BEGIN:VEVENT
DTSTART:20220305T220000Z
DTEND:20220306T020000Z
X-MICROSOFT-CDO-ALLDAYEVENT:FALSE
SUMMARY:ChocolateFest Wine Pairing Dinner at The Galley
DESCRIPTION:Raise your glass to Chocolate and the 4th Annual St. Michaels Chocolatefest\n\n\n\nIndulge yourself in an evening of wine\, dinner and chocolate at the Galley Restaurant and Bar in Historic Saint Michaels. Located in the heart of town\, the Galley's casual\, yet stylish ambiance will delight all of your senses. Space is limited\, so book your reservation now.
X-ALT-DESC;FMTTYPE=text/html:<span style="color:rgb(38\, 38\, 38)\; font-family:-apple-system\,blinkmacsystemfont\,segoe ui\,roboto\,helvetica\,arial\,sans-serif\; font-size:14px">Raise your glass to Chocolate and the 4th Annual St. Michaels Chocolatefest<br />\n<br />\nIndulge yourself in an evening of wine\, dinner and chocolate at the Galley Restaurant and Bar in Historic Saint Michaels. Located in the heart of town\, the Galley&#39\;s casual\, yet stylish ambiance will delight all of your senses. Space is limited\, so book your reservation now.</span><br />\n&nbsp\;
LOCATION:The Galley Restaurant & Bar Located in the HEART of St. Michaels 305 S. Talbot St | Saint Michaels | MD 21663 Dine In - Take Out - Delivery - Catering - Private Events
UID:e.212.20831
SEQUENCE:3
DTSTAMP:20260424T004910Z
URL:http://historic.stmichaelsmd.org/events/details/chocolatefest-wine-pairing-dinner-at-the-galley-20831
END:VEVENT

END:VCALENDAR
