BEGIN:VCALENDAR
VERSION:2.0
PRODID:-//ChamberMaster//Event Calendar 2.0//EN
METHOD:PUBLISH
X-PUBLISHED-TTL:P3D
REFRESH-INTERVAL:P3D
CALSCALE:GREGORIAN
BEGIN:VEVENT
DTSTART:20240706T230000Z
DTEND:20240707T020000Z
X-MICROSOFT-CDO-ALLDAYEVENT:FALSE
SUMMARY:CBMM's Big Band Night
DESCRIPTION:In celebration of Independence Day\, the Chesapeake Bay Maritime Museum will host Big Band Night on Saturday\, July 6\, inviting guests to bring lawn chairs and picnic blankets for an evening of music\, dancing\, and fireworks along the Miles River. The rain date for the concert and fireworks is July 7.
X-ALT-DESC;FMTTYPE=text/html:<p>In celebration of Independence Day\, the Chesapeake Bay Maritime Museum will host Big Band Night on Saturday\, July 6\, inviting guests to bring lawn chairs and picnic blankets for an evening of music\, dancing\, and fireworks along the Miles River. The rain date for the concert and fireworks is July 7.</p>\n
LOCATION:Chesapeake Bay Maritime Museum
UID:e.212.25240
SEQUENCE:3
DTSTAMP:20260422T010629Z
URL:http://historic.stmichaelsmd.org/events/details/cbmm-s-big-band-night-25240
END:VEVENT

END:VCALENDAR
