BEGIN:VCALENDAR
VERSION:2.0
PRODID:-//ChamberMaster//Event Calendar 2.0//EN
METHOD:PUBLISH
X-PUBLISHED-TTL:P3D
REFRESH-INTERVAL:P3D
CALSCALE:GREGORIAN
BEGIN:VEVENT
DTSTART:20231021T140000Z
DTEND:20231021T180000Z
X-MICROSOFT-CDO-ALLDAYEVENT:FALSE
SUMMARY:Cannonball Run Scavenger Hunt with Classic Motor Museum
DESCRIPTION:Think Cannonball Run meets Scavenger Hunt!\n\nA day of commitment free riding enjoying a few hours of beautiful Talbot County roadways. All in the name of good fun\, fundraising for the Classic Motor Museum and the comradery of fellow auto enthusiasts.\n\nMeet at Chesapeake Seafood 1216 S. Talbot St.\, St. Michaels  at 10:00 AM sharp.\n\nInstructions will be delivered to drivers and their team upon arrival. Teams will then plan their route according to their interests and the journey they want to experience.\n\nAll participants must return by 1:30 PM to the old Mill complex  located across from the Classic Motor Museum and between E. Marengo St. and  E. Chew Ave.\, St. Michaels.\n\n \n\n\nYour participation in this event will take you all around the county while you hunt and scavenge the roadways for answers.\n\n \n\nIt's a fun challenge for you and your friends/family. Pack your car with sandwiches\, drinks\, and people with sharp eyes and a sense of adventure. You're set\, as long as you have a full tank of gas!\n\n\nProceeds from this fundraiser will directly benefit the Classic Motor Museum's Automotive Technician Apprenticeship Program.\n\n \n\nFees are per automobile:\n\nNon-Members $150.00\n\nMembers $125.00\n\nStudents $50.00\n\n\n\n\nThe winning team wins bragging rights and a fun and interesting take home prize.\n\nAll registered drivers will receive an event t-shirt. \n\n\n\n\n\n\nStart: Chesapeake Seafood parking lot @ 10 am 1216 S. Talbot Street\n\nEnd: Classic Motor Museum no later than 1:30pm  102 E. Marengo Street\, St. Michaels Maryland.
X-ALT-DESC;FMTTYPE=text/html:<div id="cc-block3">\n<p><span style="font-size:14px\;">Think Cannonball Run meets Scavenger Hunt!<br />\nA day of commitment free riding enjoying a few hours of beautiful Talbot County roadways. All in the name of good fun\, fundraising for the Classic Motor Museum and the comradery of fellow auto enthusiasts.</span></p>\n\n<p><span style="font-size:14px\;">Meet at Chesapeake Seafood 1216 S. Talbot St.\, St. Michaels&nbsp\; at 10:00 AM sharp.<br />\nInstructions will be delivered to drivers and their team upon arrival. Teams will then plan their route according to their interests and the journey they want to experience.<br />\nAll participants must return by 1:30 PM to the old Mill complex&nbsp\; located across from the Classic Motor Museum and between E. Marengo St. and&nbsp\; E. Chew Ave.\, St. Michaels.</span><br />\n&nbsp\;</p>\n\n<div>\n<div><span style="font-size:14px\;">Your participation in this event will take you all around the county while you hunt and scavenge the roadways for answers.</span></div>\n\n<div>&nbsp\;</div>\n\n<div><span style="font-size:14px\;">It&#39\;s a fun challenge for you and your friends/family. Pack your car with sandwiches\, drinks\, and people with sharp eyes and a sense of adventure. You&#39\;re set\, as long as you have a full tank of gas!</span></div>\n</div>\n\n<div><span style="font-size:14px\;">Proceeds from this fundraiser will directly benefit the&nbsp\;Classic Motor Museum&#39\;s&nbsp\;Automotive Technician Apprenticeship Program.</span></div>\n\n<div>&nbsp\;</div>\n\n<div><span style="font-size:14px\;"><strong>Fees are per automobile:</strong></span></div>\n\n<div><span style="font-size:14px\;"><strong>Non-Members $150.00</strong></span></div>\n\n<div><span style="font-size:14px\;"><strong>Members $125.00</strong></span></div>\n\n<div><span style="font-size:14px\;"><strong>Students $50.00</strong></span></div>\n\n<blockquote>\n<div dir="ltr">\n<div>\n<p><span style="font-size:14px\;">The winning team wins bragging rights and a fun and interesting take home prize.</span></p>\n\n<p><span style="font-size:14px\;">All registered drivers will receive an event t-shirt.&nbsp\;</span></p>\n</div>\n</div>\n</blockquote>\n\n<p color:="" font-weight:="" myriad="" segoe=""><br />\n<span style="font-size:14px\;">Start: Chesapeake Seafood parking lot @ 10 am 1216 S. Talbot Street<br />\nEnd: Classic Motor Museum no later than 1:30pm&nbsp\; 102 E. Marengo&nbsp\;Street\, St. Michaels Maryland.</span></p>\n</div>\n
LOCATION:Start: Chesapeake Seafood parking lot @ 10 am 1216 S. Talbot Street End: Classic Motor Museum no later than 1:30pm 102 E. Marengo Street\, St. Michaels Maryland.
UID:e.212.24459
SEQUENCE:3
DTSTAMP:20260422T152251Z
URL:http://historic.stmichaelsmd.org/events/details/cannonball-run-scavenger-hunt-with-classic-motor-museum-24459
END:VEVENT

END:VCALENDAR
