BEGIN:VCALENDAR
VERSION:2.0
PRODID:-//ChamberMaster//Event Calendar 2.0//EN
METHOD:PUBLISH
X-PUBLISHED-TTL:P3D
REFRESH-INTERVAL:P3D
CALSCALE:GREGORIAN
BEGIN:VEVENT
DTSTART;VALUE=DATE:20191125
DTEND;VALUE=DATE:20191126
TRANSP:TRANSPARENT
X-MICROSOFT-CDO-ALLDAYEVENT:TRUE
SUMMARY:Bus Trip: Christmas with the Rockettes at Radio City Music Hall
DESCRIPTION:Enjoy the magic of Christmas with the Rockettes at Radio City Music Hall on Monday\, November 25th. \n\n\n\nEnjoy this spectacular Christmas Celebration with time for lunch or holiday shopping and site-seeing before heading home. \n\n\n\nBus departs and returns to SMCC in St. Michaels\, Md. \n\n\n\nCost is $178 and includes round-trip bus fare\, tickets to the show with a stop for an on-your-own dinner at Town & Country in NJ on the way home. Proceeds benefit the children and adults served by the programs and services of the St. Michaels Community Center. Reservations are limited\, so call now at 410-745-6073 and start or continue a family tradition with SMCC.
X-ALT-DESC;FMTTYPE=text/html:<span style="color:rgb(29\, 33\, 41)\; font-family:helvetica\,arial\,sans-serif\; font-size:14px">Enjoy the magic of Christmas with the </span><a href="https://www.facebook.com/rockettes/" style="color: rgb(56\, 88\, 152)\; cursor: pointer\; text-decoration-line: none\; font-family: Helvetica\, Arial\, sans-serif\; font-size: 14px\; white-space: pre-wrap\;" target="_blank">Rockettes</a><span style="color:rgb(29\, 33\, 41)\; font-family:helvetica\,arial\,sans-serif\; font-size:14px"> at Radio City Music Hall on Monday\, November 25th. </span><br />\n<br />\n<span style="color:rgb(29\, 33\, 41)\; font-family:helvetica\,arial\,sans-serif\; font-size:14px">Enjoy this spectacular Christmas Celebration with time for lunch or holiday shopping and site-seeing before heading home. </span><br />\n<br />\n<span style="color:rgb(29\, 33\, 41)\; font-family:helvetica\,arial\,sans-serif\; font-size:14px">Bus departs and returns to SMCC in St. Michaels\, Md. </span><br />\n<br />\n<span style="color:rgb(29\, 33\, 41)\; font-family:helvetica\,arial\,sans-serif\; font-size:14px">Cost is $178 and includes round-trip bus fare\, tickets to the show with a stop for an on-your-own dinner at Town &amp\; Country in NJ on the way home. Proceeds benefit the children and adults served by the programs and services of the </span><a href="https://www.facebook.com/smccorg/" style="color: rgb(56\, 88\, 152)\; cursor: pointer\; text-decoration-line: none\; font-family: Helvetica\, Arial\, sans-serif\; font-size: 14px\; white-space: pre-wrap\;" target="_blank">St. Michaels Community Center</a><span style="color:rgb(29\, 33\, 41)\; font-family:helvetica\,arial\,sans-serif\; font-size:14px">. Reservations are limited\, so call now at 410-745-6073 and start or continue a family tradition with SMCC.&nbsp\;</span>
LOCATION:Bus departs from St. Michaels Community Center. Call for times and to reserve your tickets. 410-745-6073
UID:e.212.19355
SEQUENCE:3
DTSTAMP:20260425T200845Z
URL:http://historic.stmichaelsmd.org/events/details/bus-trip-christmas-with-the-rockettes-at-radio-city-music-hall-19355
END:VEVENT

END:VCALENDAR
