BEGIN:VCALENDAR
VERSION:2.0
PRODID:-//ChamberMaster//Event Calendar 2.0//EN
METHOD:PUBLISH
X-PUBLISHED-TTL:P3D
REFRESH-INTERVAL:P3D
CALSCALE:GREGORIAN
BEGIN:VEVENT
DTSTART:20190831T120000Z
DTEND:20190831T210000Z
X-MICROSOFT-CDO-ALLDAYEVENT:FALSE
SUMMARY:Boats\, BBQ & more at CBMM's Charity Boat Auction
DESCRIPTION:This Labor Day weekend\, the Chesapeake Bay Maritime Museum is hosting the 21st annual Charity Boat Auction on Saturday\, August 31. More than 100 donated boats and watercraft ranging in size and performance from luxury boats to dinghies will be in the water and on land to be auctioned off to the highest bidders.\n\nThe event also includes a flea market-style tag sale from 9:00 a.m. to 11:00 a.m.\, when guests can purchase a variety of used boating gear\, including ground tackle\, electrical equipment\, hardware\, rope\, chain\, oars\, life jackets\, fishing tackle\, motors\, and more.\n\nProceeds from the rain or shine event benefit the children and adults served by CBMM's education\, restoration\, and exhibition programming.
X-ALT-DESC;FMTTYPE=text/html:<p>This Labor Day weekend\, the Chesapeake Bay Maritime Museum is hosting the 21st annual Charity Boat Auction on&nbsp\;<strong>Saturday\, August 31</strong>. More than 100 donated boats and watercraft&mdash\;ranging in size and performance from luxury boats to dinghies&mdash\;will be in the water and on land to be auctioned off to the highest bidders.</p>\n\n<p>The event also includes a&nbsp\;<strong>flea market-style tag sale from 9:00 a.m. to 11:00 a.m.\,</strong>&nbsp\;when guests can purchase a variety of used boating gear\, including ground tackle\, electrical equipment\, hardware\, rope\, chain\, oars\, life jackets\, fishing tackle\, motors\, and more.</p>\n\n<p>Proceeds from the rain or shine event benefit the children and adults served by CBMM&rsquo\;s education\, restoration\, and exhibition programming.</p>\n
LOCATION:Chesapeake Bay Maritime Museum 213 N. Talbot Street St. Michaels\, MD 21663
UID:e.212.16839
SEQUENCE:3
DTSTAMP:20260426T012949Z
URL:http://historic.stmichaelsmd.org/events/details/boats-bbq-more-at-cbmm-s-charity-boat-auction-16839
END:VEVENT

END:VCALENDAR
