BEGIN:VCALENDAR
VERSION:2.0
PRODID:-//ChamberMaster//Event Calendar 2.0//EN
METHOD:PUBLISH
X-PUBLISHED-TTL:P3D
REFRESH-INTERVAL:P3D
CALSCALE:GREGORIAN
BEGIN:VEVENT
DTSTART:20220702T230000Z
DTEND:20220703T020000Z
X-MICROSOFT-CDO-ALLDAYEVENT:FALSE
SUMMARY:Big Band Night & Fireworks at CBMM
DESCRIPTION:Saturday\, July 2\, 2022\n\nRain date: Sunday\, July 3\, 2022\n\n7 10pm\, Tolchester Beach Bandstand\n\nIn celebration of Independence Day\, the Chesapeake Bay Maritime Museum opens its doors for a night of live music each year. The St. Michaels fireworks will launch after dusk that evening\, with CBMM's waterfront campus a great venue from which guests can enjoy them.\n\n \n\nFor safety reasons\, non-service dogs need to be kept home during CBMM festivals\, including Big Band Night. Carry-on alcohol from dock or land is prohibited.
X-ALT-DESC;FMTTYPE=text/html:<p style="box-sizing: border-box\; margin: 0px 0px 10px\; padding: 0px\; line-height: 1.7\; font-family: &quot\;Helvetica Neue&quot\;\, Helvetica\, Arial\, sans-serif\; font-size: 14px\;"><strong style="box-sizing: border-box\; margin: 0px\; padding: 0px\;">Saturday\, July 2\, 2022</strong><br style="box-sizing: border-box\; margin: 0px\; padding: 0px\;" />\n<em style="box-sizing: border-box\; margin: 0px\; padding: 0px\;">Rain date: Sunday\, July 3\, 2022</em><br style="box-sizing: border-box\; margin: 0px\; padding: 0px\;" />\n7&ndash\;10pm\, Tolchester Beach Bandstand</p>\n\n<p style="box-sizing: border-box\; margin: 0px 0px 10px\; padding: 0px\; line-height: 1.7\; font-family: &quot\;Helvetica Neue&quot\;\, Helvetica\, Arial\, sans-serif\; font-size: 14px\;">In celebration of Independence Day\, the Chesapeake Bay Maritime Museum opens its doors for a night of live music each year. The St. Michaels fireworks will launch after dusk that evening\, with CBMM&rsquo\;s waterfront campus a great venue from which guests can enjoy them.</p>\n\n<p style="box-sizing: border-box\; margin: 0px 0px 10px\; padding: 0px\; line-height: 1.7\; font-family: &quot\;Helvetica Neue&quot\;\, Helvetica\, Arial\, sans-serif\; font-size: 14px\;">&nbsp\;</p>\n\n<p style="box-sizing: border-box\; margin: 0px 0px 10px\; padding: 0px\; line-height: 1.7\; font-family: &quot\;Helvetica Neue&quot\;\, Helvetica\, Arial\, sans-serif\; font-size: 14px\;"><strong style="box-sizing: border-box\; margin: 0px\; padding: 0px\;">For safety reasons\, non-service dogs need to be kept home during CBMM festivals\, including Big Band Night. Carry-on alcohol from dock or land is prohibited.</strong></p>\n
LOCATION:Chesapeake Bay Maritime Museum 213 N. Talbot Street St. Michaels\, MD 21663
UID:e.212.21080
SEQUENCE:3
DTSTAMP:20260423T182104Z
URL:http://historic.stmichaelsmd.org/events/details/big-band-night-fireworks-at-cbmm-21080
END:VEVENT

END:VCALENDAR
