BEGIN:VCALENDAR
VERSION:2.0
PRODID:-//ChamberMaster//Event Calendar 2.0//EN
METHOD:PUBLISH
X-PUBLISHED-TTL:P3D
REFRESH-INTERVAL:P3D
CALSCALE:GREGORIAN
BEGIN:VEVENT
DTSTART:20211014T153000Z
DTEND:20211014T173000Z
X-MICROSOFT-CDO-ALLDAYEVENT:FALSE
SUMMARY:Beer Tasting Cruises on a Sailboat
DESCRIPTION:Micro Brew Beer Tasting Cruises\n\nAbout 7 years ago\, two young\, talented\, and enthusiastic beer brewers came to St. Michaels and opened the Eastern Shore Brewery and started making great craft brews like St Michaels Ale.. And so our interest in beer was born\, and the idea to offer beer tasting cruises on board Selina II sprung from fun times at the brewery!\n\nOur tastings feature several regional and local microbrews delivered to the best seats in town   or should we say\, the edge of town!\n\nLimited to just six guests and available Mon-Thurs 11:30-1:30 and 2:00-4:00 with prior reservations\, these cruises include unlimited samplings of Maryland Microbrewery's finest.
X-ALT-DESC;FMTTYPE=text/html:<h2><strong>Micro Brew Beer Tasting Cruises</strong></h2>\n\n<p>About 7 years ago\, two young\, talented\, and enthusiastic beer brewers came to St. Michaels and opened the Eastern Shore Brewery and started making great craft brews like St Michaels Ale.. And so our interest in beer was born\, and the idea to offer beer tasting cruises on board Selina II sprung from fun times at the brewery!</p>\n\n<p>Our tastings feature several regional and local microbrews delivered to the best seats in town &mdash\; or should we say\, the edge of town!</p>\n\n<p>Limited to just six guests and available Mon-Thurs 11:30-1:30 and 2:00-4:00 with prior reservations\, these cruises include unlimited samplings of Maryland Microbrewery&rsquo\;s finest.&nbsp\;</p>\n
LOCATION:Sail Selina II 101 N Harbor Rd St Michaels MD 21663
UID:e.212.20214
SEQUENCE:3
DTSTAMP:20260424T081129Z
URL:http://historic.stmichaelsmd.org/events/details/beer-tasting-cruises-on-a-sailboat-10-14-2021-20214
END:VEVENT

END:VCALENDAR
