BEGIN:VCALENDAR
VERSION:2.0
PRODID:-//ChamberMaster//Event Calendar 2.0//EN
METHOD:PUBLISH
X-PUBLISHED-TTL:P3D
REFRESH-INTERVAL:P3D
CALSCALE:GREGORIAN
BEGIN:VEVENT
DTSTART:20210626T190000Z
DTEND:20210626T210000Z
X-MICROSOFT-CDO-ALLDAYEVENT:FALSE
SUMMARY:Audrey Sullivan Artisan Meet & Greet - Tilghman Island Inn
DESCRIPTION:Tilghman Island Inn will be hosting a "meet the artist" art show showcasing artist Audrey Sullivan on Saturday\, June 26th 2021 from 3pm to 5pm. Guests will be able to meet and greet her\, discover\, buy her artwork. We will have some light fare and refreshments.
X-ALT-DESC;FMTTYPE=text/html:<span style="font-family:arial\;">Tilghman Island Inn<span style="color: rgb(29\, 34\, 40)\;">&nbsp\;will be hosting a &ldquo\;meet the artist&rdquo\; art show showcasing artist Audrey Sullivan on Saturday\, June 26th 2021 from 3pm to 5pm. Guests will be able to meet and greet her\, discover\, buy her artwork. We will have some light fare and refreshments.</span></span>
LOCATION:Tilghman Island Inn 21384 Coopertown Rd Tilghman Island\, MD 21671
UID:e.212.19617
SEQUENCE:3
DTSTAMP:20260424T142440Z
URL:http://historic.stmichaelsmd.org/events/details/audrey-sullivan-artisan-meet-greet-tilghman-island-inn-19617
END:VEVENT

END:VCALENDAR
