BEGIN:VCALENDAR
VERSION:2.0
PRODID:-//ChamberMaster//Event Calendar 2.0//EN
METHOD:PUBLISH
X-PUBLISHED-TTL:P3D
REFRESH-INTERVAL:P3D
CALSCALE:GREGORIAN
BEGIN:VEVENT
DTSTART:20191005T130000Z
DTEND:20191005T200000Z
X-MICROSOFT-CDO-ALLDAYEVENT:FALSE
SUMMARY:Apple Festival @ St. Luke's Church
DESCRIPTION:Date: Saturday\, October 5th\, 2019 from 9 a.m. to 4 p.m.\n\nLocation: St. Luke's United Methodist Church on Talbot Street\n\nJoin us for our first Apple Festival at St. Luke's Church. It will be fun for the whole family. You can shop our many craft vendors and purchase fresh apples and indulge in an apple dumpling.
X-ALT-DESC;FMTTYPE=text/html:<p style="margin: 0px 0px 10px\; padding: 0px 0px 0.5em\; font-family: georgia\; font-size: 17px\; line-height: 20.4px\; color: rgb(32\, 28\, 87)\;"><span style="font-family:arial\;"><strong style="margin: 0px\; padding: 0px\; font-family: georgia\, arial\;">Date:</strong>&nbsp\;Saturday\, October 5th\, 2019&nbsp\;from 9 a.m. to 4 p.m.<br style="margin: 0px\; padding: 0px\;" />\n<strong style="margin: 0px\; padding: 0px\; font-family: georgia\, arial\;">Location:</strong>&nbsp\;St. Luke&rsquo\;s United Methodist Church on Talbot Street</span></p>\n\n<p style="margin: 0px 0px 10px\; padding: 0px 0px 0.5em\; font-family: georgia\; font-size: 17px\; line-height: 20.4px\; color: rgb(32\, 28\, 87)\;"><span style="font-family:arial\;">Join us for our first Apple Festival at St. Luke&#39\;s Church.&nbsp\;It will be fun for the whole family. You can shop our many craft vendors and purchase fresh apples and indulge in an apple dumpling.</span></p>\n
LOCATION:304 S Talbot St\, St Michaels\, MD 21663
UID:e.212.16570
SEQUENCE:3
DTSTAMP:20260425T215543Z
URL:http://historic.stmichaelsmd.org/events/details/apple-festival-st-luke-s-church-16570
END:VEVENT

END:VCALENDAR
