BEGIN:VCALENDAR
VERSION:2.0
PRODID:-//ChamberMaster//Event Calendar 2.0//EN
METHOD:PUBLISH
X-PUBLISHED-TTL:P3D
REFRESH-INTERVAL:P3D
CALSCALE:GREGORIAN
BEGIN:VEVENT
DTSTART:20240615T020000Z
DTEND:20240616T190000Z
X-MICROSOFT-CDO-ALLDAYEVENT:FALSE
SUMMARY:Antique & Classic Boat Festival & Coastal Arts Fair
DESCRIPTION:Wooden and fiberglass classics\, vintage racers\, and other antique boats return to the Chesapeake Bay Maritime Museum from June 14-16 for the 36th Antique & Classic Boat Festival & Coastal Arts Fair.\n\nHosted by the Chesapeake Bay Chapter of the Antique & Classic Boat Society\, this Father's Day weekend tradition is one of the largest classic boat shows in the Mid-Atlantic region and annually brings a sense of nostalgia to the Miles River and CBMM's waterfront campus.\n\nIn addition to the wide range of vessels on display representing a multitude of makers and eras\, the Antique & Classic Boat Festival is accompanied by a juried Coastal Arts Fair showcasing vendors whose products\, services\, and art represent boats\, the water\, and coastal life.\n\nGuests can purchase their two-day tickets for Friday-Saturday or Saturday-Sunday online now or at the door. No single-day tickets will be sold to this rain or shine event.\n\nFor safety reasons\, non-service dogs need to be kept home during CBMM festivals\, including the Antique & Classic Boat Festival and Coastal Arts Fair. Carry-on alcohol from dock or land is prohibited
X-ALT-DESC;FMTTYPE=text/html:<p>Wooden and fiberglass classics\, vintage racers\, and other antique boats return to the Chesapeake Bay Maritime Museum from June 14-16 for the 36<span style="font-size:0.75em">th</span>&nbsp\;Antique &amp\; Classic Boat Festival &amp\; Coastal Arts Fair.</p>\n\n<p>Hosted by the&nbsp\;<a href="http://www.chesapeakebayacbs.org/" rel="noreferrer noopener" style="box-sizing: border-box\; color: rgb(0\, 75\, 133)\; text-decoration-line: none\; border-color: transparent\; transition: var(--tec-transition-color)\;" target="_blank">Chesapeake Bay Chapter of the Antique &amp\; Classic Boat Society</a>\, this Father&rsquo\;s Day weekend tradition is one of the largest classic boat shows in the Mid-Atlantic region and annually brings a sense of nostalgia to the Miles River and CBMM&rsquo\;s waterfront campus.</p>\n\n<p>In addition to the wide range of vessels on display representing a multitude of makers and eras\, the Antique &amp\; Classic Boat Festival is accompanied by a juried Coastal Arts Fair showcasing vendors whose products\, services\, and art represent boats\, the water\, and coastal life.</p>\n\n<p>Guests can purchase their two-day tickets for&nbsp\;<a href="https://1573.blackbaudhosting.com/1573/Antique--Classic-Boat-Festival-two-day-ticket-FRISAT-14Jun2024" style="box-sizing: border-box\; color: rgb(0\, 75\, 133)\; text-decoration-line: none\; border-color: transparent\; transition: var(--tec-transition-color)\;">Friday-Saturday</a>&nbsp\;or&nbsp\;<a href="https://1573.blackbaudhosting.com/1573/Antique--Classic-Boat-Festival-two-day-ticket-SATSUN-15Jun2024" style="box-sizing: border-box\; color: rgb(0\, 75\, 133)\; text-decoration-line: none\; border-color: transparent\; transition: var(--tec-transition-color)\;">Saturday-Sunday</a>&nbsp\;online now or at the door. No single-day tickets will be sold to this rain or shine event.</p>\n\n<p>For safety reasons\, non-service dogs need to be kept home during CBMM festivals\, including the Antique &amp\; Classic Boat Festival and Coastal Arts Fair. Carry-on alcohol from dock or land is prohibited</p>\n
LOCATION:Chesapeake Bay Maritime Museum
UID:e.212.25239
SEQUENCE:3
DTSTAMP:20260422T030108Z
URL:http://historic.stmichaelsmd.org/events/details/antique-classic-boat-festival-coastal-arts-fair-25239
END:VEVENT

END:VCALENDAR
