BEGIN:VCALENDAR
VERSION:2.0
PRODID:-//ChamberMaster//Event Calendar 2.0//EN
METHOD:PUBLISH
X-PUBLISHED-TTL:P3D
REFRESH-INTERVAL:P3D
CALSCALE:GREGORIAN
BEGIN:VEVENT
DTSTART:20231105T230000Z
DTEND:20231106T023000Z
X-MICROSOFT-CDO-ALLDAYEVENT:FALSE
SUMMARY:A Night on the Amalfi Coast at The Galley
DESCRIPTION:Join us for "A Night on the Amalfi Coast\," where the flavors of Italy and the charm of the Mediterranean merge in a symphony of taste. \n\n\n\nGet ready for a culinary journey as we present a special 5-course dinner paired with exquisite Italian wines hailing from the stunning Amalfi coast. Renowned wine importer\, Vincenzo Schiano\, will be your host for the evening.  Expect an enchanting night filled with passion as he pours and discusses the nuances of these exceptional Italian wines.\n\n?\n\nImmerse yourself in the flavors of Italy\, with a menu inspired by the sun-kissed shores of the Amalfi Coast\, while the wines will take you on a journey through the diverse wine regions of Italy. \n\n\n\nLimited seats available for this exclusive event\, so secure your spot for "A Night on the Amalfi Coast" at The Galley Restaurant!
X-ALT-DESC;FMTTYPE=text/html:<em><strong>Join us for &quot\;A Night on the Amalfi Coast\,&quot\; where the flavors of Italy and the charm of the Mediterranean merge in a symphony of taste.&nbsp\;</strong></em><br />\n<br />\nGet ready for a culinary journey as we present a special 5-course dinner paired with exquisite Italian wines hailing from the stunning Amalfi coast.&nbsp\;Renowned wine importer\, Vincenzo Schiano\, will be your host for the evening.&nbsp\;&nbsp\;Expect an enchanting night filled with passion as he pours and discusses the nuances of these exceptional Italian wines.<br />\n?<br />\nImmerse yourself in the flavors of Italy\, with a menu inspired by the sun-kissed shores of the Amalfi Coast\, while the wines will take you on a journey through the diverse wine regions of Italy.&nbsp\;<br />\n<br />\nLimited seats available for this exclusive event\, so secure your spot for &quot\;A Night on the Amalfi Coast&quot\; at The Galley Restaurant!
LOCATION:The Galley Restaurant 305 S. Talbot Street St. Michaels\, MD 21663
UID:e.212.24471
SEQUENCE:3
DTSTAMP:20260422T135456Z
URL:http://historic.stmichaelsmd.org/events/details/a-night-on-the-amalfi-coast-at-the-galley-24471
END:VEVENT

END:VCALENDAR
