BEGIN:VCALENDAR
VERSION:2.0
PRODID:-//ChamberMaster//Event Calendar 2.0//EN
METHOD:PUBLISH
X-PUBLISHED-TTL:P3D
REFRESH-INTERVAL:P3D
CALSCALE:GREGORIAN
BEGIN:VEVENT
DTSTART:20240302T200000Z
DTEND:20240302T210000Z
X-MICROSOFT-CDO-ALLDAYEVENT:FALSE
SUMMARY:6th Annual Chocolate Pie Eating Contest
DESCRIPTION:Calling all competitive eaters\, young and old\, to the 6th Annual Chocolate Pie Eating Contest!\n\nAt 3:00 p.m.\, the competition heats up as participants dive face-first into luscious chocolate pies\, aiming for glory and the title of ultimate chocolate pie champion.\n\n\n\nWhether you're a kid with a sweet tooth or an adult with an appetite for victory\, there's a contest for you! It's messy\, it's thrilling\, and it's downright delicious.\n\n\n\nSo\, lace up your eating bibs and prepare for some serious pie-eating action at the 6th Annual Chocolate Pie Eating Contest\, happening alongside the St. Michaels ChocolateFest on March 2nd.\n\n\n\nENTER CONTEST HERE: https://www.thegalleysaintmichaels.com/st-michaels-chocolate-fest.html\n\n\n\nMark your calendars and gather your friends for a day of indulgence at the 7th Annual St. Michaels ChocolateFest.
X-ALT-DESC;FMTTYPE=text/html:<div style="background:white\; border:solid #E3E3E3 1.0pt\; padding:0in 0in 0in 0in"><span style="font-size:14px"><strong><span style="color:#0D0D0D"><span style="font-family:segoe ui\,sans-serif">Calling all competitive eaters\, young and old\, to the 6th Annual Chocolate Pie Eating Contest!</span></span></strong></span><br />\n<span style="font-size:14px"><span style="color:#0D0D0D"><span style="font-family:segoe ui\,sans-serif">At 3:00 p.m.\, the competition heats up as participants dive face-first into luscious chocolate pies\, aiming for glory and the title of ultimate chocolate pie champion.</span></span><br />\n<br />\n<span style="color:#0D0D0D"><span style="font-family:segoe ui\,sans-serif">Whether you&#39\;re a kid with a sweet tooth or an adult with an appetite for victory\, there&#39\;s a contest for you! It&#39\;s messy\, it&#39\;s thrilling\, and it&#39\;s downright delicious.</span></span></span><br />\n<br />\n<span style="color:#0D0D0D"><span style="font-family:segoe ui\,sans-serif"><span style="font-size:14px">So\, lace up your eating bibs and prepare for some serious pie-eating action at the 6th Annual Chocolate Pie Eating Contest\, happening alongside the St. Michaels ChocolateFest on March 2nd.</span></span></span><br />\n<br />\n<strong><span style="color:#FF0000"><span style="font-family:segoe ui\,sans-serif"><span style="font-size:14px">ENTER CONTEST HERE</span></span></span></strong><span style="color:#0D0D0D"><span style="font-family:segoe ui\,sans-serif"><span style="font-size:14px">:&nbsp\;</span></span></span><span style="color:#008080"><span style="font-size:14px">https://www.thegalleysaintmichaels.com/st-michaels-chocolate-fest.html</span></span><br />\n<br />\n<span style="font-size:12px"><strong><span style="color:#0D0D0D"><span style="font-family:segoe ui\,sans-serif">Mark your calendars and gather your friends for a day of indulgence at the 7th Annual St. Michaels ChocolateFest.&nbsp\;</span></span></strong></span></div>\n
LOCATION:The Galley Restaurant Located in the heart of town 305 S. Talbot St\, Saint Michaels\, MD 21663 410-200-8572 www.thegalleysaintmichaels.com DIRECTIONS:https://maps.app.goo.gl/rrvoY6Eq9vVQB64AA Voted BEST BREAKFAST AND Best Bloody Mary on the Eastern Shore! Family Friendly Pet Friendly Senior (55 and over) Discount Every Thursday Indoor & Outdoor Seating Vegan & Gluten Free Options
UID:e.212.25232
SEQUENCE:3
DTSTAMP:20260422T073723Z
URL:http://historic.stmichaelsmd.org/events/details/6th-annual-chocolate-pie-eating-contest-25232
END:VEVENT

END:VCALENDAR
