BEGIN:VCALENDAR
VERSION:2.0
PRODID:-//ChamberMaster//Event Calendar 2.0//EN
METHOD:PUBLISH
X-PUBLISHED-TTL:P3D
REFRESH-INTERVAL:P3D
CALSCALE:GREGORIAN
BEGIN:VEVENT
DTSTART:20230304T200000Z
DTEND:20230304T213000Z
X-MICROSOFT-CDO-ALLDAYEVENT:FALSE
SUMMARY:5th Annual Chocolate Pie Eating Contest during St. Michaels ChocolateFest
DESCRIPTION:5th Annual Pie Eating Contest @ The Galley\n\nThe 5th Annual St. Michaels ChocolateFest will be held in March and will include restaurants and lodging offering special menus and get-away packages.   The chocolate lover will enjoy shopping throughout town sampling amazing artisan chocolates\, desserts\, wine\, beer and spirits.\n\nMarch 4th at 3:00 pm\n\nKids & Adult Categories\n\nSpace is limited\, so enter now!\n\nREGISTER NOW HERE!
X-ALT-DESC;FMTTYPE=text/html:<div style="text-align: center\;"><span style="font-family:arial\;"><strong><span style="font-size:18px">5th Annual Pie Eating Contest&nbsp\;@ The Galley</span></strong><br />\n<span style="font-size:14px\;"><font color="#000000" style="font-family: Montserrat\; font-size: 18px\; text-align: center\;">The 5th Annual&nbsp\;</font><a href="http://www.stmichaelsmd.org/chocolatefest" style="text-decoration-line: none\; color: rgb(106\, 156\, 175)\; font-family: Montserrat\; font-size: 18px\; text-align: center\;" target="_blank">St. Michaels ChocolateFest&nbsp\;</a><font color="#000000" style="font-family: Montserrat\; font-size: 18px\; text-align: center\;">will be held in March and will include restaurants and lodging offering special menus and get-away packages.&nbsp\; &nbsp\;The chocolate lover will enjoy&nbsp\;shopping throughout town&nbsp\;sampling amazing artisan chocolates\, desserts\, wine\, beer and spirits.</font></span></span><br />\n<span style="color:#000000\;"><span style="font-size: 18px\;">March 4th at 3:00 pm</span><br />\n<span style="font-size:16px">Kids &amp\; Adult Categories<br />\nSpace is limited\, so enter now!</span></span><br />\n<a href="https://www.thegalleysaintmichaels.com/st-michaels-chocolate-fest.html" target="_blank"><span style="color:#000000\;">REGISTER NOW HERE!</span></a></div>\n
LOCATION:The Galley Restaurant & Bar Located in the HEART of St. Michaels 305 S. Talbot St | Saint Michaels | MD 21663 www.thegalleysaintmichaels.com
UID:e.212.23331
SEQUENCE:3
DTSTAMP:20260423T074453Z
URL:http://historic.stmichaelsmd.org/events/details/5th-annual-chocolate-pie-eating-contest-during-st-michaels-chocolatefest-23331
END:VEVENT

END:VCALENDAR
