BEGIN:VCALENDAR
VERSION:2.0
PRODID:-//ChamberMaster//Event Calendar 2.0//EN
METHOD:PUBLISH
X-PUBLISHED-TTL:P3D
REFRESH-INTERVAL:P3D
CALSCALE:GREGORIAN
BEGIN:VEVENT
DTSTART:20220305T200000Z
DTEND:20220305T210000Z
X-MICROSOFT-CDO-ALLDAYEVENT:FALSE
SUMMARY:4th Annual Chocolate Pie Eating Contest
DESCRIPTION:JOIN US FOR OUR 4th ANNUAL PIE EATING CONTEST\n\nMarch 5th at 3:00 pm\n\nKids & Adult Categories\n\nSpace is limited\, so enter now!\n\nREGISTER NOW!!!
X-ALT-DESC;FMTTYPE=text/html:<div style="text-align: center\;"><strong><span style="font-size:18px">JOIN US FOR OUR 4th ANNUAL PIE EATING CONTEST</span></strong><br />\n<span style="color:#800000"><span style="font-family:montserrat\; font-size:18px">March 5th at 3:00 pm</span><br />\n<span style="font-size:16px"><span style="font-family:montserrat">Kids &amp\; Adult Categories</span><br />\n<span style="font-family:montserrat">Space is limited\, so enter now!</span></span></span><br />\n<strong><span style="color:#800000">REGISTER NOW!!!</span></strong></div>\n
LOCATION:The Galley Restaurant & Bar Located in the HEART of St. Michaels 305 S. Talbot St | Saint Michaels | MD 21663 www.thegalleysaintmichaels.com
UID:e.212.20830
SEQUENCE:3
DTSTAMP:20260424T004753Z
URL:http://historic.stmichaelsmd.org/events/details/4th-annual-chocolate-pie-eating-contest-20830
END:VEVENT

END:VCALENDAR
