BEGIN:VCALENDAR
VERSION:2.0
PRODID:-//ChamberMaster//Event Calendar 2.0//EN
METHOD:PUBLISH
X-PUBLISHED-TTL:P3D
REFRESH-INTERVAL:P3D
CALSCALE:GREGORIAN
BEGIN:VEVENT
DTSTART:20240330T130000Z
DTEND:20240330T170000Z
X-MICROSOFT-CDO-ALLDAYEVENT:FALSE
SUMMARY:4th Annual Breakfast with the Easter Bunny
DESCRIPTION:Create Cherished Memories this Easter!\n\n\n\nBREAKFAST WITH THE EASTER BUNNY\n\nThis Easter\, embark on a delightful journey filled with joy and wonder alongside your little ones at The Galley Restaurant's enchanting Breakfast with the Easter Bunny event!\n\n\n\nMark your calendars for March 30th and indulge in our 4th Annual Classic Breakfast with the Easter Bunny experience. Picture this: as you savor each delectable bite from our mouthwatering menu featuring Belgian waffles\, fluffy pancakes\, savory biscuits and gravy\, sumptuous crab cakes benedict\, crispy bacon\, irresistible donuts\, and heavenly house-made baked goods\, you'll be serenaded by your favorite festive tunes\, creating an ambiance of pure delight.\n\n\n\nWhile adults sip on bottomless mimosas\, our little VIPs will be treated to a delightful array of treats at our cookies and candy station\, accompanied by steaming cups of hot chocolate from our charming cocoa cart. And here's the best part - each child will have the exclusive opportunity to meet and greet the Easter Bunny\, escorted directly from their table without any hassle or waiting in lines.\n\n\n\nSecure your reservation today to partake in this cherished Easter tradition\, guaranteed to light up every child's face with pure delight and create heartwarming memories that will be treasured for a lifetime.\n\n\n\nDon't miss out on this magical experience! Reserve your spot now\, and within 24 hours of your online reservation request\, we'll be in touch to confirm your reservation with a simple credit card deposit. Remember\, all reservations require payment in advance to ensure a seamless and unforgettable Easter celebration.
X-ALT-DESC;FMTTYPE=text/html:<span style="font-size:18px"><span style="color:#008080"><strong><span style="font-family:lucida grande\,lucida sans unicode\,tahoma\,sans-serif">Create Cherished Memories this Easter!</span></strong></span></span><br />\n<br />\n<span style="font-size:22px"><strong><span style="color:#EE82EE"><span style="font-family:lucida grande\,lucida sans unicode\,tahoma\,sans-serif">BREAKFAST WITH THE EASTER BUNNY</span></span></strong></span><br />\n<span style="color:rgb(85\, 85\, 85)\; font-family:lucida grande\,lucida sans unicode\,tahoma\,sans-serif\; font-size:12.35px">This Easter\, embark on a delightful journey filled with joy and wonder alongside your little ones at <strong>The Galley Restaurant&#39\;s</strong> enchanting Breakfast with the Easter Bunny event!</span><br />\n<br />\n<span style="color:rgb(85\, 85\, 85)\; font-family:lucida grande\,lucida sans unicode\,tahoma\,sans-serif\; font-size:12.35px">Mark your calendars for March 30th and indulge in our <strong>4th Annual Classic Breakfast with the Easter Bunny</strong> experience. Picture this: as you savor each delectable bite from our mouthwatering menu featuring Belgian waffles\, fluffy pancakes\, savory biscuits and gravy\, sumptuous crab cakes benedict\, crispy bacon\, irresistible donuts\, and heavenly house-made baked goods\, you&#39\;ll be serenaded by your favorite festive tunes\, creating an ambiance of pure delight.</span><br />\n<br />\n<span style="color:rgb(85\, 85\, 85)\; font-family:lucida grande\,lucida sans unicode\,tahoma\,sans-serif\; font-size:12.35px">While adults sip on bottomless mimosas\, our little VIPs will be treated to a delightful array of treats at our cookies and candy station\, accompanied by steaming cups of hot chocolate from our charming cocoa cart. And here&#39\;s the best part - each child will have the exclusive opportunity to meet and greet the Easter Bunny\, escorted directly from their table without any hassle or waiting in lines.</span><br />\n<br />\n<span style="color:rgb(85\, 85\, 85)\; font-family:lucida grande\,lucida sans unicode\,tahoma\,sans-serif\; font-size:12.35px">Secure your reservation today to partake in this cherished Easter tradition\, guaranteed to light up every child&#39\;s face with pure delight and create heartwarming memories that will be treasured for a lifetime.</span><br />\n<br />\n<span style="color:rgb(85\, 85\, 85)\; font-family:lucida grande\,lucida sans unicode\,tahoma\,sans-serif\; font-size:12.35px">Don&#39\;t miss out on this magical experience! Reserve your spot now\, and within 24 hours of your online reservation request\, we&#39\;ll be in touch to confirm your reservation with a simple credit card deposit. Remember\, all reservations require payment in advance to ensure a seamless and unforgettable Easter celebration.</span>
LOCATION:The Galley Restaurant Located in the heart of town 305 S. Talbot St 410-200-8572 www.thegalleysaintmichaels.com Voted Best Breakfast AND Best Bloody Mary on the Eastern Shore Family Friendly Pet Friendly Senior (55 and over) Discount Every Thursday Indoor & Outdoor Seating Vegan & Gluten Free Options
UID:e.212.25233
SEQUENCE:3
DTSTAMP:20260422T073659Z
URL:http://historic.stmichaelsmd.org/events/details/4th-annual-breakfast-with-the-easter-bunny-25233
END:VEVENT

END:VCALENDAR
