BEGIN:VCALENDAR
VERSION:2.0
PRODID:-//ChamberMaster//Event Calendar 2.0//EN
METHOD:PUBLISH
X-PUBLISHED-TTL:P3D
REFRESH-INTERVAL:P3D
CALSCALE:GREGORIAN
BEGIN:VEVENT
DTSTART:20190614T150000Z
DTEND:20190615T210000Z
X-MICROSOFT-CDO-ALLDAYEVENT:FALSE
SUMMARY:32nd Annual Antique & Classic Boat Festival & the Arts at Navy Point
DESCRIPTION:Wooden and fiberglass classics\, vintage racers\, and other antique and Chesapeake Bay-related boats are coming to the Chesapeake Bay Maritime Museum June 14-15\, 2019 for the 32nd annual Antique & Classic Boat Festival and the Arts at Navy Point in St. Michaels\, Md. Hosted by the Chesapeake Bay Chapter of the Antique & Classic Boat Society\, this Father's Day weekend event brings a sense of nostalgia to the Miles River and CBMM's docks and campus\, drawing some of the area's finest classic boats\, nautical and maritime treasures\, entertainment\, food\, and libations to this waterfront festival.
X-ALT-DESC;FMTTYPE=text/html:<span style="font-family:helvetica neue\,helvetica\,arial\,sans-serif\; font-size:14px">Wooden and fiberglass classics\, vintage racers\, and other antique and Chesapeake Bay-related boats are coming to the Chesapeake Bay Maritime Museum June 14-15\, 2019 for the</span><strong>&nbsp\;32nd&nbsp\;annual Antique &amp\; Classic Boat Festival</strong><span style="font-family:helvetica neue\,helvetica\,arial\,sans-serif\; font-size:14px">&nbsp\;and the&nbsp\;</span><a href="http://cbmm.org/news/maritime-arts-st-michaels-june-15-17/" rel="noopener" style="box-sizing: border-box\; margin: 0px\; padding: 0px\; color: rgb(66\, 139\, 202)\; text-decoration-line: none\; font-family: &quot\;Helvetica Neue&quot\;\, Helvetica\, Arial\, sans-serif\; font-size: 14px\;" target="_blank"><em><strong>Arts at Navy Point</strong>&nbsp\;</em></a><span style="font-family:helvetica neue\,helvetica\,arial\,sans-serif\; font-size:14px">in St. Michaels\, Md. Hosted by the Chesapeake Bay Chapter of the Antique &amp\; Classic Boat Society\, this Father&rsquo\;s Day weekend event brings a sense of nostalgia to the Miles River and CBMM&rsquo\;s docks and campus\, drawing some of the area&rsquo\;s finest classic boats\, nautical and maritime treasures\, entertainment\, food\, and libations to this waterfront festival.</span>
LOCATION:Chesapeake Bay Maritime Museum 213 N. Talbot Street St. Michaels\, MD 21663
UID:e.212.16836
SEQUENCE:3
DTSTAMP:20260426T043824Z
URL:http://historic.stmichaelsmd.org/events/details/32nd-annual-antique-classic-boat-festival-the-arts-at-navy-point-16836
END:VEVENT

END:VCALENDAR
