BEGIN:VCALENDAR
VERSION:2.0
PRODID:-//ChamberMaster//Event Calendar 2.0//EN
METHOD:PUBLISH
X-PUBLISHED-TTL:P3D
REFRESH-INTERVAL:P3D
CALSCALE:GREGORIAN
BEGIN:VEVENT
DTSTART:20240831T160000Z
DTEND:20240831T173000Z
X-MICROSOFT-CDO-ALLDAYEVENT:FALSE
SUMMARY:12pm Brunch - Italian Style! Cooking Class with Chef Dawn and Bobbi Parlett
DESCRIPTION:Learn how to prepare 3 Italian Style Brunch Courses with Chef Dawn then enjoy them with paired wines! 12pm Session\nLove to cook and drink Italian wine? Want to learn how to prepare a delicious Italian Style Brunch? Join us Saturday August 31st at 12:00pm with Chef Dawn and Owner\, Bobbi Parlett. This will be a special learning and tasting experience of awesome food and wine. \n\nAs Chef Dawn shows you how to prepare our 3 courses\, Bobbi will introduce the paired wines. We will surely have another fun and informative experience. Hope to see you for this event in our Trattoria Simpatico at 104 Railroad Ave. Salute!
X-ALT-DESC;FMTTYPE=text/html:<span style="color:rgb(0\, 0\, 0)\; font-family:avenir-lt-w01_35-light1475496\,avenir-lt-w05_35-light\,sans-serif\; font-size:16px">Learn how to prepare 3 Italian Style Brunch Courses with Chef Dawn then enjoy them with paired wines! 12pm Session</span>\n<p><strong>Love to cook and drink Italian wine? Want to learn how to prepare a delicious Italian Style Brunch? Join us Saturday August 31st at 12:00pm with Chef Dawn and Owner\, Bobbi Parlett. This will be a special learning and tasting experience of awesome food and wine.&nbsp\;</strong></p>\n\n<p><strong>As Chef Dawn shows you how to prepare our 3 courses\, Bobbi will introduce the paired wines. We will surely have another fun and informative experience. Hope to see you for this event in our Trattoria Simpatico at 104 Railroad Ave. Salute!&nbsp\;</strong></p>\n\n<div>&nbsp\;</div>\n
LOCATION:Trattoria Simpatico 104 Railroad Ave St Michaels\, MD 21663
UID:e.212.29812
SEQUENCE:3
DTSTAMP:20260421T232908Z
URL:http://historic.stmichaelsmd.org/events/details/12pm-brunch-italian-style-cooking-class-with-chef-dawn-and-bobbi-parlett-29812
END:VEVENT

END:VCALENDAR
